BEGIN:VCALENDAR
VERSION:2.0
PRODID:-//Akademickie Targi Pracy - ECPv6.15.20//NONSGML v1.0//EN
CALSCALE:GREGORIAN
METHOD:PUBLISH
X-WR-CALNAME:Akademickie Targi Pracy
X-ORIGINAL-URL:https://atp.lodz.pl/en
X-WR-CALDESC:Events for Akademickie Targi Pracy
REFRESH-INTERVAL;VALUE=DURATION:PT1H
X-Robots-Tag:noindex
X-PUBLISHED-TTL:PT1H
BEGIN:VTIMEZONE
TZID:Europe/Warsaw
BEGIN:DAYLIGHT
TZOFFSETFROM:+0100
TZOFFSETTO:+0200
TZNAME:CEST
DTSTART:20240331T010000
END:DAYLIGHT
BEGIN:STANDARD
TZOFFSETFROM:+0200
TZOFFSETTO:+0100
TZNAME:CET
DTSTART:20241027T010000
END:STANDARD
BEGIN:DAYLIGHT
TZOFFSETFROM:+0100
TZOFFSETTO:+0200
TZNAME:CEST
DTSTART:20250330T010000
END:DAYLIGHT
BEGIN:STANDARD
TZOFFSETFROM:+0200
TZOFFSETTO:+0100
TZNAME:CET
DTSTART:20251026T010000
END:STANDARD
BEGIN:DAYLIGHT
TZOFFSETFROM:+0100
TZOFFSETTO:+0200
TZNAME:CEST
DTSTART:20260329T010000
END:DAYLIGHT
BEGIN:STANDARD
TZOFFSETFROM:+0200
TZOFFSETTO:+0100
TZNAME:CET
DTSTART:20261025T010000
END:STANDARD
END:VTIMEZONE
BEGIN:VEVENT
DTSTART;TZID=Europe/Warsaw:20251001T000000
DTEND;TZID=Europe/Warsaw:20251031T235959
DTSTAMP:20260420T162600
CREATED:20240408T104833Z
LAST-MODIFIED:20250821T123340Z
UID:1034-1759276800-1761955199@atp.lodz.pl
SUMMARY:Akademickie Targi Pracy - oferta
DESCRIPTION:Uprzejmie informujemy\, że nowa oferta ATP na rok 2026 zostanie opublikowana w październiku 2025 roku.Dokładamy wszelkich starań\, aby przygotowane propozycje odpowiadały na potrzeby i oczekiwania naszych Partnerów.W przypadku pytań zapraszamy do kontaktu atp@adm.p.lodz.pl .
URL:https://atp.lodz.pl/en/wydarzenie/akademickie-targi-pracy/
ATTACH;FMTTYPE=image/jpeg:https://atp.lodz.pl/wp-content/uploads/2023/11/Strona_do_kafelka_katalog_propozycja_1.jpg
END:VEVENT
END:VCALENDAR